BEGIN:VCALENDAR
VERSION:2.0
PRODID:-//Systems Integration Asia - ECPv6.15.17.1//NONSGML v1.0//EN
CALSCALE:GREGORIAN
METHOD:PUBLISH
X-ORIGINAL-URL:https://www.systemsintegrationasia.com
X-WR-CALDESC:Events for Systems Integration Asia
REFRESH-INTERVAL;VALUE=DURATION:PT1H
X-Robots-Tag:noindex
X-PUBLISHED-TTL:PT1H
BEGIN:VTIMEZONE
TZID:Asia/Hong_Kong
BEGIN:STANDARD
TZOFFSETFROM:+0800
TZOFFSETTO:+0800
TZNAME:HKT
DTSTART:20180101T000000
END:STANDARD
END:VTIMEZONE
BEGIN:VEVENT
DTSTART;VALUE=DATE:20190515
DTEND;VALUE=DATE:20190518
DTSTAMP:20260420T051553
CREATED:20181217T190601Z
LAST-MODIFIED:20230127T100815Z
UID:34621-1557878400-1558137599@www.systemsintegrationasia.com
SUMMARY:InfoComm Southeast Asia
DESCRIPTION:Recognizing that education is key to the sharing and successful implementation of new technologies\, every InfocommAsia exhibition is accompanied by a highly-anticipated Summit program. \nLuminaries and experts come together to discuss trends\, technology updates and industry best practices via discussions\, seminars and forums. \nEvery Summit comprises three sub-programs: The AVIXA Seminar\, Industry Forums\, and Manufacturers’ Presentations. Other industry-specific platforms are also introduced each year to encourage discussions in greater depth. \nCatch the next wave of industry advancements and market trends right here at InfoComm Southeast Asia Summit 2019.
URL:https://www.systemsintegrationasia.com/event/infocomm-southeast-asia/
CATEGORIES:Exhibitions
END:VEVENT
BEGIN:VEVENT
DTSTART;VALUE=DATE:20190508
DTEND;VALUE=DATE:20190512
DTSTAMP:20260420T051553
CREATED:20181217T185926Z
LAST-MODIFIED:20230127T100815Z
UID:34619-1557273600-1557619199@www.systemsintegrationasia.com
SUMMARY:Guangzhou Entertainment Technology (GET) Show
DESCRIPTION:GETshow is a comprehensive Pro Light & Sound Exhibition hosted by Industry Association Of South China Entertainment Equipment（SCEE）and China Council for the Promotion of International Trade Guangdong Sub-Council. The sponsors include China Association of Stage Art\, China Association of Recording engineers\, China Audio Industry Association\, Professional Committee of Audio & Video Projects of China Audio –Video Association\,  Institute of Audio Video and Lighting Technology of Guangzhou University and Maga Stage International DJ World. Basing on GETshow aims to promote the communication among manufactures and promote the development in the whole industry at the base of protecting the interests of its members and exhibitors.\n \nWith the service tenet of “self-reliant innovation\, win-win world”\, GETshow provides a good opportunity for enterprises of pro light\, sound and other relevant equipments in the industry to show their products together. Meanwhile\, through this exposition\, elites from different areas\, famous brands from home and abroad have the chance to exchange ideas with each other\, this creates great potential opportunities for business.
URL:https://www.systemsintegrationasia.com/event/guangzhou-entertainment-technology-get-show-2/
CATEGORIES:Exhibitions
ATTACH;FMTTYPE=image/jpeg:https://www.systemsintegrationasia.com/wp-content/uploads/2023/01/getshow.jpg
END:VEVENT
BEGIN:VEVENT
DTSTART;VALUE=DATE:20190508
DTEND;VALUE=DATE:20190511
DTSTAMP:20260420T051553
CREATED:20181217T185606Z
LAST-MODIFIED:20230127T100815Z
UID:34617-1557273600-1557532799@www.systemsintegrationasia.com
SUMMARY:SecutechAsia
DESCRIPTION:Bringing Asia‘s security\, IoT & AI ecosystems together under a single roof \nAs the largest regional business platform for professionals in the security\, mobility\, building automation and fire safety solution sectors\, Secutech is the annual gathering place for key players from Japan\, Thailand\, Vietnam\, Malaysia\, the Philippines\, Singapore\, Myanmar andother Southeast Asian countries looking for integrated security systems and smart solutions powered by AI analytics and IoT technologies. \nJoin the one-stop platform to: \n\nIntroduce the latest innovations\nFind cross-industry partners\nTap into high-potential markets
URL:https://www.systemsintegrationasia.com/event/secutechasia-2/
CATEGORIES:Exhibitions
ATTACH;FMTTYPE=image/jpeg:https://www.systemsintegrationasia.com/wp-content/uploads/2023/01/secutech.jpg
END:VEVENT
BEGIN:VEVENT
DTSTART;VALUE=DATE:20190406
DTEND;VALUE=DATE:20190412
DTSTAMP:20260420T051553
CREATED:20181217T184732Z
LAST-MODIFIED:20230127T100815Z
UID:34613-1554508800-1555027199@www.systemsintegrationasia.com
SUMMARY:NAB Show 2019
DESCRIPTION:POWERING WHAT THE INDUSTRY CREATES AND HOW THE WORLD CONSUMES.\nThis is the ultimate event for media\, entertainment and technology professionals looking for new and innovative ways to create\, manage\, deliver and monetize content on any platform.
URL:https://www.systemsintegrationasia.com/event/nab-show-2019/
CATEGORIES:Exhibitions
ATTACH;FMTTYPE=image/jpeg:https://www.systemsintegrationasia.com/wp-content/uploads/2023/01/nabshow.jpg
END:VEVENT
BEGIN:VEVENT
DTSTART;VALUE=DATE:20190402
DTEND;VALUE=DATE:20190406
DTSTAMP:20260420T051553
CREATED:20181217T184115Z
LAST-MODIFIED:20230127T100815Z
UID:34611-1554163200-1554508799@www.systemsintegrationasia.com
SUMMARY:Prolight + Sound Frankfurt 2019
DESCRIPTION:At prolight + sound numerous exhibitors present themselves and give trade visitors a comprehensive overview of all the products and services in the event industry. “prolight+sound” is considered the leading international trade fair of the industry and serves as an ideal communication platform for exhibitors\, trade visitors\, dealers and professionals from around the world. In addition to the diverse range of products and services visitors can expect a number of workshops.
URL:https://www.systemsintegrationasia.com/event/prolight-sound-frankfurt-2019/
CATEGORIES:Exhibitions
ATTACH;FMTTYPE=image/jpeg:https://www.systemsintegrationasia.com/wp-content/uploads/2023/01/prolight_sound_logo_4638.jpg
END:VEVENT
BEGIN:VEVENT
DTSTART;VALUE=DATE:20190327
DTEND;VALUE=DATE:20190329
DTSTAMP:20260420T051553
CREATED:20181217T183729Z
LAST-MODIFIED:20230127T100815Z
UID:34609-1553644800-1553817599@www.systemsintegrationasia.com
SUMMARY:IoT Asia
DESCRIPTION:The 6th edition of IoT Asia is a dedicated business platform at the forefront of creating collaboration and knowledge sharing opportunities for professionals in the Internet of Things value chain. The event connects technology solution providers\, enablers\, end-users and potential IoT technology adopters from online to offline…
URL:https://www.systemsintegrationasia.com/event/iot-asia/
CATEGORIES:Exhibitions
ATTACH;FMTTYPE=image/jpeg:https://www.systemsintegrationasia.com/wp-content/uploads/2023/01/iot.jpg
END:VEVENT
BEGIN:VEVENT
DTSTART;VALUE=DATE:20190227
DTEND;VALUE=DATE:20190302
DTSTAMP:20260420T051553
CREATED:20181217T183040Z
LAST-MODIFIED:20230127T100815Z
UID:34607-1551225600-1551484799@www.systemsintegrationasia.com
SUMMARY:Live Entertainment Expo Tokyo
DESCRIPTION:Live Entertainment Expo TOKYO is a B-to-B trade show for the live entertainment and media industry. It gathers LED display\, pro-lighting\, pro-audio\, stage art and digital entertainment for concert venues\, theaters and amusement parks. Since Japan is core of Asia’s media and entertainment market\, the show assures you unparalleled business opportunities to tap into the market. Join us and market your solutions!
URL:https://www.systemsintegrationasia.com/event/live-entertainment-expo-tokyo-2/
CATEGORIES:Exhibitions
ATTACH;FMTTYPE=image/jpeg:https://www.systemsintegrationasia.com/wp-content/uploads/2023/01/livetokyo.jpg
END:VEVENT
BEGIN:VEVENT
DTSTART;VALUE=DATE:20190224
DTEND;VALUE=DATE:20190228
DTSTAMP:20260420T051553
CREATED:20181217T182428Z
LAST-MODIFIED:20230127T100815Z
UID:34605-1550966400-1551311999@www.systemsintegrationasia.com
SUMMARY:Prolight + Sound Guangzhou 2019
DESCRIPTION:Prolight + Sound Guangzhou 2019 (PLSG19) will continue to uphold its position as a comprehensive industry platform through featuring a whole spectrum of products from the sectors of pro audio\, lighting\, stage equipment\, KTV\, parts & accessories\, communication & conferencing\, as well as projection & display. Maximise your brand exposure and demonstrate your leading products in the 13 thematic halls and the Y-Channel! \nAs part of the Chinese government’s initiative to build a conservation-oriented society\, real-time communication for trainings and meetings is being emphasised. \nPLSG 2019 will feature a whole array of conference systems\, networks\, as well as AV and communication systems that incorporate these changing industry requirements\, enabling you to keep abreast of the latest industry advancements.
URL:https://www.systemsintegrationasia.com/event/prolight-sound-guangzhou-2019/
CATEGORIES:Exhibitions
ATTACH;FMTTYPE=image/jpeg:https://www.systemsintegrationasia.com/wp-content/uploads/2023/01/psg.jpg
END:VEVENT
BEGIN:VEVENT
DTSTART;VALUE=DATE:20190221
DTEND;VALUE=DATE:20190224
DTSTAMP:20260420T051553
CREATED:20181217T173304Z
LAST-MODIFIED:20230127T100815Z
UID:34603-1550707200-1550966399@www.systemsintegrationasia.com
SUMMARY:LED China 2019 - Shenzhen
DESCRIPTION:Established in 2005\, LED CHINA is the initiator of international LED exhibition in the world. Being the benchmark of the global LED industrial chain\, LED CHINA·Shenzhen is devoted to build a complete one-stop platform with a wide range of LED related products\, LED applications in different industrial fields and integrated solutions in extended market segments.
URL:https://www.systemsintegrationasia.com/event/led-china-2019-shenzhen/
CATEGORIES:Exhibitions
ATTACH;FMTTYPE=image/jpeg:https://www.systemsintegrationasia.com/wp-content/uploads/2023/01/ledchina.jpg
END:VEVENT
END:VCALENDAR