BEGIN:VCALENDAR
VERSION:2.0
PRODID:-//Systems Integration Asia - ECPv6.15.17.1//NONSGML v1.0//EN
CALSCALE:GREGORIAN
METHOD:PUBLISH
X-WR-CALNAME:Systems Integration Asia
X-ORIGINAL-URL:https://www.systemsintegrationasia.com
X-WR-CALDESC:Events for Systems Integration Asia
REFRESH-INTERVAL;VALUE=DURATION:PT1H
X-Robots-Tag:noindex
X-PUBLISHED-TTL:PT1H
BEGIN:VTIMEZONE
TZID:Asia/Hong_Kong
BEGIN:STANDARD
TZOFFSETFROM:+0800
TZOFFSETTO:+0800
TZNAME:HKT
DTSTART:20180101T000000
END:STANDARD
END:VTIMEZONE
BEGIN:VEVENT
DTSTART;VALUE=DATE:20190221
DTEND;VALUE=DATE:20190224
DTSTAMP:20260424T205125
CREATED:20181217T173304Z
LAST-MODIFIED:20230127T100815Z
UID:34603-1550707200-1550966399@www.systemsintegrationasia.com
SUMMARY:LED China 2019 - Shenzhen
DESCRIPTION:Established in 2005\, LED CHINA is the initiator of international LED exhibition in the world. Being the benchmark of the global LED industrial chain\, LED CHINA·Shenzhen is devoted to build a complete one-stop platform with a wide range of LED related products\, LED applications in different industrial fields and integrated solutions in extended market segments.
URL:https://www.systemsintegrationasia.com/event/led-china-2019-shenzhen/
CATEGORIES:Exhibitions
ATTACH;FMTTYPE=image/jpeg:https://www.systemsintegrationasia.com/wp-content/uploads/2023/01/ledchina.jpg
END:VEVENT
END:VCALENDAR