BEGIN:VCALENDAR
VERSION:2.0
PRODID:-//Systems Integration Asia - ECPv6.15.17.1//NONSGML v1.0//EN
CALSCALE:GREGORIAN
METHOD:PUBLISH
X-WR-CALNAME:Systems Integration Asia
X-ORIGINAL-URL:https://www.systemsintegrationasia.com
X-WR-CALDESC:Events for Systems Integration Asia
REFRESH-INTERVAL;VALUE=DURATION:PT1H
X-Robots-Tag:noindex
X-PUBLISHED-TTL:PT1H
BEGIN:VTIMEZONE
TZID:Asia/Hong_Kong
BEGIN:STANDARD
TZOFFSETFROM:+0800
TZOFFSETTO:+0800
TZNAME:HKT
DTSTART:20180101T000000
END:STANDARD
END:VTIMEZONE
BEGIN:VEVENT
DTSTART;VALUE=DATE:20190827
DTEND;VALUE=DATE:20190830
DTSTAMP:20260420T014424
CREATED:20181217T201549Z
LAST-MODIFIED:20230127T100815Z
UID:34641-1566864000-1567123199@www.systemsintegrationasia.com
SUMMARY:Integrate
DESCRIPTION:Integrate is Australia’s premier annual AV and Integration trade show. Celebrating it’s the tenth anniversary\, this three-day event is a hub of activity for local and global brands to showcase solutions and products to AV technicians and corporate end users\, meet with buyers\, integrators and distributors\, and celebrate the latest industry developments.
URL:https://www.systemsintegrationasia.com/event/integrate-3/
CATEGORIES:Exhibitions
ATTACH;FMTTYPE=image/jpeg:https://www.systemsintegrationasia.com/wp-content/uploads/2023/01/integrate.jpg
END:VEVENT
BEGIN:VEVENT
DTSTART;VALUE=DATE:20190718
DTEND;VALUE=DATE:20190721
DTSTAMP:20260420T014424
CREATED:20181217T201320Z
LAST-MODIFIED:20230127T100815Z
UID:34639-1563408000-1563667199@www.systemsintegrationasia.com
SUMMARY:Summer NAMM 2019
DESCRIPTION:The Business Crossroads of Music\, Sound and Event Technology\n\n\n\n\nThe NAMM Show is the definitive platform for the music\, sound and event technology communities to unite\, featuring more than 7\,000 brands\, cutting-edge industry education\, as well as exclusive special events\, concerts and experiences.
URL:https://www.systemsintegrationasia.com/event/summer-namm-2019/
CATEGORIES:Exhibitions
ATTACH;FMTTYPE=image/jpeg:https://www.systemsintegrationasia.com/wp-content/uploads/2023/01/namm.jpg
END:VEVENT
BEGIN:VEVENT
DTSTART;VALUE=DATE:20190718
DTEND;VALUE=DATE:20190721
DTSTAMP:20260420T014424
CREATED:20181217T201045Z
LAST-MODIFIED:20230127T100815Z
UID:34637-1563408000-1563667199@www.systemsintegrationasia.com
SUMMARY:Pro AVL Indonesia
DESCRIPTION:In conjunction with \n\n\n\n\n\nBROADCAST & MEDIA TECH INDONESIA 2019\n\n\n\n\nEntertainment\, Hospitality & Technology …\n\n\n\n\n\n\n\n\n\n\n\nFollowing the successful conclusion of two editions of Pro AVL Asia and Tourism Technology Asia in Singapore\, we are delighted to bring the industry players to a new location – Indonesia. \n The Indonesian International Showcase of professional audio\, visual\, lighting and hospitality technology Exhibition\, Pro AVL / TTA Indonesia 2019 will open its door in Jakarta\, Indonesia come 18th – 20th July 2019\, for 3 days only\, targeting the whole entertainment\, tourism and hospitality trade. Held in conjunction with Broadcast & Media Tech and alongside Music Indonesia\, this will be a comprehensive platform for the whole entertainment\, leisure\, hospitality & tourism industry.
URL:https://www.systemsintegrationasia.com/event/pro-avl-indonesia/
CATEGORIES:Exhibitions
ATTACH;FMTTYPE=image/jpeg:https://www.systemsintegrationasia.com/wp-content/uploads/2023/01/avl.jpg
END:VEVENT
BEGIN:VEVENT
DTSTART;VALUE=DATE:20190717
DTEND;VALUE=DATE:20190720
DTSTAMP:20260420T014424
CREATED:20181217T185227Z
LAST-MODIFIED:20230127T100815Z
UID:34615-1563321600-1563580799@www.systemsintegrationasia.com
SUMMARY:InfoComm China Beijing 2019
DESCRIPTION:For over a decade\, InfoComm China has been raising the profile of China’s Professional AudioVisual (Pro-AV) and Experiential Communications market. Today\, it is Asia Pacific’s foremost platform where Pro-AV and Experiential Communications players\, manufacturers and users from across all industries meet. \nAn exhibition jam-packed with activities and opportunities\, InfoComm China is where the world’s leading brands choose to debut their latest products and solutions. Tens of thousands of users attend the show each year to witness what Pro-AV technology and Experiential Communications solutions can do for their businesses.
URL:https://www.systemsintegrationasia.com/event/infocomm-china-beijing-2019/
CATEGORIES:Exhibitions
ATTACH;FMTTYPE=image/jpeg:https://www.systemsintegrationasia.com/wp-content/uploads/2023/01/infocomm.jpg
END:VEVENT
BEGIN:VEVENT
DTSTART;VALUE=DATE:20190627
DTEND;VALUE=DATE:20190630
DTSTAMP:20260420T014424
CREATED:20181217T200743Z
LAST-MODIFIED:20230127T100815Z
UID:34635-1561593600-1561852799@www.systemsintegrationasia.com
SUMMARY:LED Expo Thailand
DESCRIPTION:LED Expo Thailand 2019\, the 7th edition of ASEAN’s Show on LED Technology & Lighting Solutions\, is dedicated to the science\, technology and application of LEDs and solid-state lighting. LED Expo Thailand is a dynamic hub for LED / lighting companies to congregate\, promote\, discuss\, transact\, partner and gain insights on neighboring LED markets.
URL:https://www.systemsintegrationasia.com/event/led-expo-thailand-4/
CATEGORIES:Exhibitions
ATTACH;FMTTYPE=image/jpeg:https://www.systemsintegrationasia.com/wp-content/uploads/2023/01/ledexpo.jpg
END:VEVENT
BEGIN:VEVENT
DTSTART;VALUE=DATE:20190618
DTEND;VALUE=DATE:20190621
DTSTAMP:20260420T014424
CREATED:20181217T200500Z
LAST-MODIFIED:20230127T100815Z
UID:34633-1560816000-1561075199@www.systemsintegrationasia.com
SUMMARY:ConnectechAsia (CommunicAsia and NXTAsia 2019)
DESCRIPTION:CommunicAsia continues to be Asia’s key international Information and Communication Technology (ICT) trade event. Into its 30-year edition\, the event consistently delivers a highly relevant show experience for ISPs\, Satellite Operators\, System Integrators\, Mobile Operators amongst many others in Asia. \nSolutions for 5G\, Smart Cities and Connected Devices/Vehicles\, Narrow Band IoT are amongst some of the highlights at the 2019 edition. The established show also boasts the largest display of SatComm solutions from across the globe.
URL:https://www.systemsintegrationasia.com/event/communicasia2019/
CATEGORIES:Exhibitions
ATTACH;FMTTYPE=image/jpeg:https://www.systemsintegrationasia.com/wp-content/uploads/2023/01/communicAsia.jpg
END:VEVENT
BEGIN:VEVENT
DTSTART;VALUE=DATE:20190618
DTEND;VALUE=DATE:20190621
DTSTAMP:20260420T014424
CREATED:20181217T200109Z
LAST-MODIFIED:20230127T100815Z
UID:34631-1560816000-1561075199@www.systemsintegrationasia.com
SUMMARY:ConnectechAsia (BroadcastAsia 2019)
DESCRIPTION:BroadcastAsia brings you game-changing and innovative technologies that are disrupting the digital multimedia and broadcasting industries. Capture the future with us and witness the evolution of technologies that drives this ecosystem. \nDo not miss out on ground-breaking technologies for UHD / HDR\, IP Broadcasting\, Content Media Security\, Live Production\, OTT and Alternative Content Platforms that are amongst some of the key highlights at the 2019 edition.
URL:https://www.systemsintegrationasia.com/event/connectechasia-broadcastasia-2019/
CATEGORIES:Exhibitions
ATTACH;FMTTYPE=image/jpeg:https://www.systemsintegrationasia.com/wp-content/uploads/2023/01/broadcastasia.jpg
END:VEVENT
BEGIN:VEVENT
DTSTART;VALUE=DATE:20190612
DTEND;VALUE=DATE:20190615
DTSTAMP:20260420T014424
CREATED:20181217T195742Z
LAST-MODIFIED:20230127T100815Z
UID:34628-1560297600-1560556799@www.systemsintegrationasia.com
SUMMARY:IAAPA Expo Asia 2019
DESCRIPTION:IAAPA Expo Asia (formerly Asian Attractions Expo) is IAAPA’s exclusive Expo in the Asia Pacific region. Come together with industry professionals from around the world to learn and experience what’s new\, innovative\, and next. \nFind just what you’re looking for and more to grow your business with the innovations\, solutions\, knowledge\, connections\, and expertise you’ll find at IAAPA Expo Asia 2019 in Shanghai\, China. \nConference Programme starts on Jun 11 \n\nDiscover New Ideas\, Products and Services\nProfessionals from 300+ global companies will showcase new products and services to help you grow and attract new customers \nAcquire Best Practices and Gain Business Insights\nAttend education sessions  and expand your attractions industry knowledge. Take part in exclusive IAAPA member EDUTours at many of Shanghai’s leading attractions during IAAPA Expo Asia \nNetwork with Global Associates and Colleagues\nConnect with 8\,500+ professionals from 60+ countries. Share best practices\, learn from peers\, discuss latest trends and expand your network during special events.
URL:https://www.systemsintegrationasia.com/event/iaapa-expo-asia-2019/
CATEGORIES:Exhibitions
ATTACH;FMTTYPE=image/jpeg:https://www.systemsintegrationasia.com/wp-content/uploads/2023/01/ExpoAsia_Logo_Horiz.jpg
END:VEVENT
BEGIN:VEVENT
DTSTART;VALUE=DATE:20190612
DTEND;VALUE=DATE:20190613
DTSTAMP:20260420T014424
CREATED:20181217T195328Z
LAST-MODIFIED:20230127T100815Z
UID:34626-1560297600-1560297600@www.systemsintegrationasia.com
SUMMARY:InfoComm International 2019
DESCRIPTION:Nineteen percent of InfoComm attendance comes from outside the United States\, and we’re committed to providing a global marketplace that makes it easy for you to meet manufacturers\, dealers and audiovisual professionals all in one place. \nConference Programme starts on June 08 \nWith 1\,000 exhibitors and 44\,000 attendees\, InfoComm 2019 is the largest trade fair in North America for audiovisual communications.\nInfoComm 2019 features:\n\nA robust education program\, AVIXA training sessions and Manufacturers’ Training sessions\nTours to innovative Orlando AV installation projects during AV Tech Tours\nAudio Demo Rooms from Tuesday-Friday\, where you can hear equipment from the biggest brands in audio\nComplimentary access to the Opening Reception on Tuesday evening\n\nThe InfoComm show is produced by AVIXA\, the association for commercial AV professionals worldwide.
URL:https://www.systemsintegrationasia.com/event/infocomm-international-2019/
CATEGORIES:Exhibitions
ATTACH;FMTTYPE=image/jpeg:https://www.systemsintegrationasia.com/wp-content/uploads/2023/01/infocommusa.jpg
END:VEVENT
BEGIN:VEVENT
DTSTART;VALUE=DATE:20190609
DTEND;VALUE=DATE:20190613
DTSTAMP:20260420T014424
CREATED:20181217T191740Z
LAST-MODIFIED:20230127T100815Z
UID:34624-1560038400-1560383999@www.systemsintegrationasia.com
SUMMARY:Guangzhou International Lighting Exhibition
DESCRIPTION:Headed by the Light + Building event in Frankfurt\, the Guangzhou International Lighting Exhibition is Asia’s most influential and comprehensive lighting and LED event and a professional industry platform for cultivating new business opportunities from both within and outside the traditional industry realms. Every year\, Guangzhou International Lighting Exhibition sets the stage for discovering new industry breakthroughs.
URL:https://www.systemsintegrationasia.com/event/guangzhou-international-lighting-exhibition-2/
CATEGORIES:Exhibitions
ATTACH;FMTTYPE=image/jpeg:https://www.systemsintegrationasia.com/wp-content/uploads/2023/01/guangzhou.jpg
END:VEVENT
BEGIN:VEVENT
DTSTART;VALUE=DATE:20190530
DTEND;VALUE=DATE:20190602
DTSTAMP:20260420T014424
CREATED:20190312T194545Z
LAST-MODIFIED:20230127T100815Z
UID:34649-1559174400-1559433599@www.systemsintegrationasia.com
SUMMARY:AV Integrated Systems Expo
DESCRIPTION:The PALM Expo launches AV Integrated Systems in 2019. AV Integrated Systems Exhibition will run concurrent with the PALM Expo in a connected independent hall 3. This dedicated AV hall brings all AV tech and solutions together in a focused area and is connected to the pro audio hall. Visitors seeking AV solutions at the PALM Expo have direct access to this hall.
URL:https://www.systemsintegrationasia.com/event/av-integrated-systems-expo/
CATEGORIES:Exhibitions
ATTACH;FMTTYPE=image/gif:https://www.systemsintegrationasia.com/wp-content/uploads/2023/01/logo_2018_new.gif
END:VEVENT
BEGIN:VEVENT
DTSTART;VALUE=DATE:20190530
DTEND;VALUE=DATE:20190602
DTSTAMP:20260420T014424
CREATED:20181217T191203Z
LAST-MODIFIED:20230127T100815Z
UID:34622-1559174400-1559433599@www.systemsintegrationasia.com
SUMMARY:PALM Expo India 2019
DESCRIPTION:The internationally acclaimed PALM expo boasts of an extensive spectrum of products and technological solutions for pro audio\, music production\, audiovisual\, cinema sound and lighting. In order to accommodate the expanse of exhibits in a manner which facilitates efficient movement of buyers leading to better business for exhibitors\, PALM has dedicated exhibit areas for sound + music production + lighting + laser + effects + audiovisual integrated system
URL:https://www.systemsintegrationasia.com/event/palm-expo-india-2019/
CATEGORIES:Exhibitions
ATTACH;FMTTYPE=image/jpeg:https://www.systemsintegrationasia.com/wp-content/uploads/2023/01/palmexpo.jpg
END:VEVENT
BEGIN:VEVENT
DTSTART;VALUE=DATE:20190515
DTEND;VALUE=DATE:20190518
DTSTAMP:20260420T014424
CREATED:20181217T190601Z
LAST-MODIFIED:20230127T100815Z
UID:34621-1557878400-1558137599@www.systemsintegrationasia.com
SUMMARY:InfoComm Southeast Asia
DESCRIPTION:Recognizing that education is key to the sharing and successful implementation of new technologies\, every InfocommAsia exhibition is accompanied by a highly-anticipated Summit program. \nLuminaries and experts come together to discuss trends\, technology updates and industry best practices via discussions\, seminars and forums. \nEvery Summit comprises three sub-programs: The AVIXA Seminar\, Industry Forums\, and Manufacturers’ Presentations. Other industry-specific platforms are also introduced each year to encourage discussions in greater depth. \nCatch the next wave of industry advancements and market trends right here at InfoComm Southeast Asia Summit 2019.
URL:https://www.systemsintegrationasia.com/event/infocomm-southeast-asia/
CATEGORIES:Exhibitions
END:VEVENT
BEGIN:VEVENT
DTSTART;VALUE=DATE:20190508
DTEND;VALUE=DATE:20190512
DTSTAMP:20260420T014424
CREATED:20181217T185926Z
LAST-MODIFIED:20230127T100815Z
UID:34619-1557273600-1557619199@www.systemsintegrationasia.com
SUMMARY:Guangzhou Entertainment Technology (GET) Show
DESCRIPTION:GETshow is a comprehensive Pro Light & Sound Exhibition hosted by Industry Association Of South China Entertainment Equipment（SCEE）and China Council for the Promotion of International Trade Guangdong Sub-Council. The sponsors include China Association of Stage Art\, China Association of Recording engineers\, China Audio Industry Association\, Professional Committee of Audio & Video Projects of China Audio –Video Association\,  Institute of Audio Video and Lighting Technology of Guangzhou University and Maga Stage International DJ World. Basing on GETshow aims to promote the communication among manufactures and promote the development in the whole industry at the base of protecting the interests of its members and exhibitors.\n \nWith the service tenet of “self-reliant innovation\, win-win world”\, GETshow provides a good opportunity for enterprises of pro light\, sound and other relevant equipments in the industry to show their products together. Meanwhile\, through this exposition\, elites from different areas\, famous brands from home and abroad have the chance to exchange ideas with each other\, this creates great potential opportunities for business.
URL:https://www.systemsintegrationasia.com/event/guangzhou-entertainment-technology-get-show-2/
CATEGORIES:Exhibitions
ATTACH;FMTTYPE=image/jpeg:https://www.systemsintegrationasia.com/wp-content/uploads/2023/01/getshow.jpg
END:VEVENT
BEGIN:VEVENT
DTSTART;VALUE=DATE:20190508
DTEND;VALUE=DATE:20190511
DTSTAMP:20260420T014424
CREATED:20181217T185606Z
LAST-MODIFIED:20230127T100815Z
UID:34617-1557273600-1557532799@www.systemsintegrationasia.com
SUMMARY:SecutechAsia
DESCRIPTION:Bringing Asia‘s security\, IoT & AI ecosystems together under a single roof \nAs the largest regional business platform for professionals in the security\, mobility\, building automation and fire safety solution sectors\, Secutech is the annual gathering place for key players from Japan\, Thailand\, Vietnam\, Malaysia\, the Philippines\, Singapore\, Myanmar andother Southeast Asian countries looking for integrated security systems and smart solutions powered by AI analytics and IoT technologies. \nJoin the one-stop platform to: \n\nIntroduce the latest innovations\nFind cross-industry partners\nTap into high-potential markets
URL:https://www.systemsintegrationasia.com/event/secutechasia-2/
CATEGORIES:Exhibitions
ATTACH;FMTTYPE=image/jpeg:https://www.systemsintegrationasia.com/wp-content/uploads/2023/01/secutech.jpg
END:VEVENT
BEGIN:VEVENT
DTSTART;VALUE=DATE:20190406
DTEND;VALUE=DATE:20190412
DTSTAMP:20260420T014424
CREATED:20181217T184732Z
LAST-MODIFIED:20230127T100815Z
UID:34613-1554508800-1555027199@www.systemsintegrationasia.com
SUMMARY:NAB Show 2019
DESCRIPTION:POWERING WHAT THE INDUSTRY CREATES AND HOW THE WORLD CONSUMES.\nThis is the ultimate event for media\, entertainment and technology professionals looking for new and innovative ways to create\, manage\, deliver and monetize content on any platform.
URL:https://www.systemsintegrationasia.com/event/nab-show-2019/
CATEGORIES:Exhibitions
ATTACH;FMTTYPE=image/jpeg:https://www.systemsintegrationasia.com/wp-content/uploads/2023/01/nabshow.jpg
END:VEVENT
BEGIN:VEVENT
DTSTART;VALUE=DATE:20190402
DTEND;VALUE=DATE:20190406
DTSTAMP:20260420T014424
CREATED:20181217T184115Z
LAST-MODIFIED:20230127T100815Z
UID:34611-1554163200-1554508799@www.systemsintegrationasia.com
SUMMARY:Prolight + Sound Frankfurt 2019
DESCRIPTION:At prolight + sound numerous exhibitors present themselves and give trade visitors a comprehensive overview of all the products and services in the event industry. “prolight+sound” is considered the leading international trade fair of the industry and serves as an ideal communication platform for exhibitors\, trade visitors\, dealers and professionals from around the world. In addition to the diverse range of products and services visitors can expect a number of workshops.
URL:https://www.systemsintegrationasia.com/event/prolight-sound-frankfurt-2019/
CATEGORIES:Exhibitions
ATTACH;FMTTYPE=image/jpeg:https://www.systemsintegrationasia.com/wp-content/uploads/2023/01/prolight_sound_logo_4638.jpg
END:VEVENT
BEGIN:VEVENT
DTSTART;VALUE=DATE:20190327
DTEND;VALUE=DATE:20190329
DTSTAMP:20260420T014424
CREATED:20181217T183729Z
LAST-MODIFIED:20230127T100815Z
UID:34609-1553644800-1553817599@www.systemsintegrationasia.com
SUMMARY:IoT Asia
DESCRIPTION:The 6th edition of IoT Asia is a dedicated business platform at the forefront of creating collaboration and knowledge sharing opportunities for professionals in the Internet of Things value chain. The event connects technology solution providers\, enablers\, end-users and potential IoT technology adopters from online to offline…
URL:https://www.systemsintegrationasia.com/event/iot-asia/
CATEGORIES:Exhibitions
ATTACH;FMTTYPE=image/jpeg:https://www.systemsintegrationasia.com/wp-content/uploads/2023/01/iot.jpg
END:VEVENT
BEGIN:VEVENT
DTSTART;VALUE=DATE:20190227
DTEND;VALUE=DATE:20190302
DTSTAMP:20260420T014424
CREATED:20181217T183040Z
LAST-MODIFIED:20230127T100815Z
UID:34607-1551225600-1551484799@www.systemsintegrationasia.com
SUMMARY:Live Entertainment Expo Tokyo
DESCRIPTION:Live Entertainment Expo TOKYO is a B-to-B trade show for the live entertainment and media industry. It gathers LED display\, pro-lighting\, pro-audio\, stage art and digital entertainment for concert venues\, theaters and amusement parks. Since Japan is core of Asia’s media and entertainment market\, the show assures you unparalleled business opportunities to tap into the market. Join us and market your solutions!
URL:https://www.systemsintegrationasia.com/event/live-entertainment-expo-tokyo-2/
CATEGORIES:Exhibitions
ATTACH;FMTTYPE=image/jpeg:https://www.systemsintegrationasia.com/wp-content/uploads/2023/01/livetokyo.jpg
END:VEVENT
BEGIN:VEVENT
DTSTART;VALUE=DATE:20190224
DTEND;VALUE=DATE:20190228
DTSTAMP:20260420T014424
CREATED:20181217T182428Z
LAST-MODIFIED:20230127T100815Z
UID:34605-1550966400-1551311999@www.systemsintegrationasia.com
SUMMARY:Prolight + Sound Guangzhou 2019
DESCRIPTION:Prolight + Sound Guangzhou 2019 (PLSG19) will continue to uphold its position as a comprehensive industry platform through featuring a whole spectrum of products from the sectors of pro audio\, lighting\, stage equipment\, KTV\, parts & accessories\, communication & conferencing\, as well as projection & display. Maximise your brand exposure and demonstrate your leading products in the 13 thematic halls and the Y-Channel! \nAs part of the Chinese government’s initiative to build a conservation-oriented society\, real-time communication for trainings and meetings is being emphasised. \nPLSG 2019 will feature a whole array of conference systems\, networks\, as well as AV and communication systems that incorporate these changing industry requirements\, enabling you to keep abreast of the latest industry advancements.
URL:https://www.systemsintegrationasia.com/event/prolight-sound-guangzhou-2019/
CATEGORIES:Exhibitions
ATTACH;FMTTYPE=image/jpeg:https://www.systemsintegrationasia.com/wp-content/uploads/2023/01/psg.jpg
END:VEVENT
BEGIN:VEVENT
DTSTART;VALUE=DATE:20190221
DTEND;VALUE=DATE:20190224
DTSTAMP:20260420T014424
CREATED:20181217T173304Z
LAST-MODIFIED:20230127T100815Z
UID:34603-1550707200-1550966399@www.systemsintegrationasia.com
SUMMARY:LED China 2019 - Shenzhen
DESCRIPTION:Established in 2005\, LED CHINA is the initiator of international LED exhibition in the world. Being the benchmark of the global LED industrial chain\, LED CHINA·Shenzhen is devoted to build a complete one-stop platform with a wide range of LED related products\, LED applications in different industrial fields and integrated solutions in extended market segments.
URL:https://www.systemsintegrationasia.com/event/led-china-2019-shenzhen/
CATEGORIES:Exhibitions
ATTACH;FMTTYPE=image/jpeg:https://www.systemsintegrationasia.com/wp-content/uploads/2023/01/ledchina.jpg
END:VEVENT
END:VCALENDAR