BEGIN:VCALENDAR
VERSION:2.0
PRODID:-//Systems Integration Asia - ECPv6.15.17.1//NONSGML v1.0//EN
CALSCALE:GREGORIAN
METHOD:PUBLISH
X-WR-CALNAME:Systems Integration Asia
X-ORIGINAL-URL:https://www.systemsintegrationasia.com
X-WR-CALDESC:Events for Systems Integration Asia
REFRESH-INTERVAL;VALUE=DURATION:PT1H
X-Robots-Tag:noindex
X-PUBLISHED-TTL:PT1H
BEGIN:VTIMEZONE
TZID:Asia/Singapore
BEGIN:STANDARD
TZOFFSETFROM:+0800
TZOFFSETTO:+0800
TZNAME:+08
DTSTART:20230101T000000
END:STANDARD
END:VTIMEZONE
BEGIN:VTIMEZONE
TZID:Asia/Hong_Kong
BEGIN:STANDARD
TZOFFSETFROM:+0800
TZOFFSETTO:+0800
TZNAME:HKT
DTSTART:20190101T000000
END:STANDARD
END:VTIMEZONE
BEGIN:VEVENT
DTSTART;VALUE=DATE:20260930
DTEND;VALUE=DATE:20261003
DTSTAMP:20260423T145434
CREATED:20260118T090318Z
LAST-MODIFIED:20260118T090318Z
UID:46568-1790726400-1790985599@www.systemsintegrationasia.com
SUMMARY:Prolight + Sound Bangkok
DESCRIPTION:With the premiere event of the Prolight + Sound Bangkok the international trade fair series Prolight + Sound is expanding its portfolio to include a major destination in Southeast Asia. The trade fair will take place from September 30 to October 2\, 2026 at the Bangkok International Trade & Exhibition Centre (BITEC) and will place a new focus on a market that is currently one of the most dynamic in the global event industry. For manufacturers\, distributors\, integrators and service providers of event and media technology\, Prolight + Sound Bangkok opens up promising access to a region whose growth and willingness to innovate is accelerating significantly.
URL:https://www.systemsintegrationasia.com/event/prolight-sound-bangkok/
LOCATION:Bangkok International Trade and Exhibition Centre\, Bangkok International Trade and Exhibition Centre (BITEC)\, 88 Bang Na-Trat Rd\, Khwaeng Bang Na\, Khet Bang Na\, Krung Thep Maha Nakhon\, 10260\, Thailand
END:VEVENT
BEGIN:VEVENT
DTSTART;VALUE=DATE:20260916
DTEND;VALUE=DATE:20260919
DTSTAMP:20260423T145434
CREATED:20240524T090258Z
LAST-MODIFIED:20260119T030218Z
UID:41250-1789516800-1789775999@www.systemsintegrationasia.com
SUMMARY:InfoComm India
DESCRIPTION:India’s leading professional audiovisual and integrated technology business event\nEstablished in 2013\, InfoComm India is a professional trade exhibition serving the country’s Pro AV and integrated technology ecosystem. The event brings together AV and IT channel professionals\, system integrators\, solution providers\, and senior end-user buyers to explore applied technologies shaping enterprise\, live events\, broadcast\, and experiential environments. \nInfoComm India provides a platform to experience new solutions\, engage with industry practitioners\, and exchange practical insights through exhibitions\, demonstrations\, and conference sessions. With its focus on real-world applications and market relevance\, the event supports informed decision-making and meaningful collaboration within India’s fast-evolving technology landscape. For more information\, click HERE.
URL:https://www.systemsintegrationasia.com/event/infocomm-india/
LOCATION:Jio World Convention Centre\, Mumbai
CATEGORIES:Exhibitions
END:VEVENT
BEGIN:VEVENT
DTSTART;VALUE=DATE:20260915
DTEND;VALUE=DATE:20260918
DTSTAMP:20260423T145434
CREATED:20250626T013039Z
LAST-MODIFIED:20251008T084811Z
UID:44875-1789430400-1789689599@www.systemsintegrationasia.com
SUMMARY:LED China - Shanghai
DESCRIPTION:
URL:https://www.systemsintegrationasia.com/event/led-china-shanghai/
LOCATION:Shanghai New International Expo Center\, 2345 Longyang Rd\, ShiJi GongYuan\, Pudong Xinqu\, Shanghai Shi\, China\, 201204\, China
CATEGORIES:Exhibitions,Summit
END:VEVENT
BEGIN:VEVENT
DTSTART;VALUE=DATE:20260911
DTEND;VALUE=DATE:20260915
DTSTAMP:20260423T145434
CREATED:20230115T191538Z
LAST-MODIFIED:20251008T084639Z
UID:34698-1789084800-1789430399@www.systemsintegrationasia.com
SUMMARY:IBC
DESCRIPTION:
URL:https://www.systemsintegrationasia.com/event/ibc/
LOCATION:Amsterdam RAI Exhibition and Convention Centre\, Netherlands
CATEGORIES:Exhibitions
END:VEVENT
BEGIN:VEVENT
DTSTART;VALUE=DATE:20260902
DTEND;VALUE=DATE:20260905
DTSTAMP:20260423T145434
CREATED:20230115T191236Z
LAST-MODIFIED:20260119T065234Z
UID:34693-1788307200-1788566399@www.systemsintegrationasia.com
SUMMARY:Integrate
DESCRIPTION:
URL:https://www.systemsintegrationasia.com/event/integrate/
LOCATION:International Convention Centre\, Sydney\, Sydney\, Australia
CATEGORIES:Exhibitions
END:VEVENT
BEGIN:VEVENT
DTSTART;VALUE=DATE:20260715
DTEND;VALUE=DATE:20260718
DTSTAMP:20260423T145434
CREATED:20240418T093338Z
LAST-MODIFIED:20260119T030747Z
UID:40712-1784073600-1784332799@www.systemsintegrationasia.com
SUMMARY:InfoComm Asia
DESCRIPTION:InfoComm Asia is a leading Pro AV and integrated technology exhibition serving the Asia-Pacific region. The event brings together solution providers\, system integrators\, technology buyers\, and end users across enterprise\, live events and venues\, broadcast\, and related sectors. \nThe exhibition features a broad range of Pro AV and integrated technology solutions\, including collaboration systems\, immersive experience technologies\, live event and venue solutions\, and IP-based media workflows. Complementing the exhibition\, the Summit program offers conference sessions and case studies led by industry practitioners and subject-matter experts\, providing practical insight into market developments and real-world applications. \nWith its focus on applied solutions\, cross-sector collaboration\, and regional relevance\, InfoComm Asia offers a practical platform for professionals to evaluate technologies\, identify partners\, and stay informed on industry developments across Asia-Pacific. For more information\, click HERE.
URL:https://www.systemsintegrationasia.com/event/infocomm-asia/
LOCATION:Queen Sirikit National Convention Center\, Bangkok\, Thailand
CATEGORIES:Exhibitions
END:VEVENT
BEGIN:VEVENT
DTSTART;VALUE=DATE:20260613
DTEND;VALUE=DATE:20260620
DTSTAMP:20260423T145434
CREATED:20220104T014002Z
LAST-MODIFIED:20251008T083523Z
UID:34687-1781308800-1781913599@www.systemsintegrationasia.com
SUMMARY:InfoComm
DESCRIPTION:Education: June 13-19 | West Building\nExhibits: June 17-19 | North & Central Halls
URL:https://www.systemsintegrationasia.com/event/infocomm/
LOCATION:Las Vegas Convention Center\, NV\, USA\, Las Vegas Convention Center\, NV\, USA
CATEGORIES:Exhibitions
END:VEVENT
BEGIN:VEVENT
DTSTART;VALUE=DATE:20260528
DTEND;VALUE=DATE:20260601
DTSTAMP:20260423T145434
CREATED:20200510T230701Z
LAST-MODIFIED:20251008T082430Z
UID:34663-1779926400-1780271999@www.systemsintegrationasia.com
SUMMARY:Prolight + Sound Guangzhou
DESCRIPTION:
URL:https://www.systemsintegrationasia.com/event/prolight-sound-guangzhou/
LOCATION:China Import & Export Fair Complex\, Guangzhou\, China
CATEGORIES:Exhibitions
END:VEVENT
BEGIN:VEVENT
DTSTART;VALUE=DATE:20260528
DTEND;VALUE=DATE:20260531
DTSTAMP:20260423T145434
CREATED:20191103T182157Z
LAST-MODIFIED:20251008T083035Z
UID:34654-1779926400-1780185599@www.systemsintegrationasia.com
SUMMARY:AV-ICNx Expo
DESCRIPTION:
URL:https://www.systemsintegrationasia.com/event/av-icnx-expo/
LOCATION:Bombay Exhibition Center\, Mumbai\, Goregaon East\, India
CATEGORIES:Exhibitions
END:VEVENT
BEGIN:VEVENT
DTSTART;VALUE=DATE:20260528
DTEND;VALUE=DATE:20260531
DTSTAMP:20260423T145434
CREATED:20191103T181953Z
LAST-MODIFIED:20251008T082720Z
UID:34652-1779926400-1780185599@www.systemsintegrationasia.com
SUMMARY:PALM EXPO
DESCRIPTION:
URL:https://www.systemsintegrationasia.com/event/palm-expo/
LOCATION:Bombay Exhibition Center\, Mumbai\, Goregaon East\, India
CATEGORIES:Exhibitions
END:VEVENT
BEGIN:VEVENT
DTSTART;VALUE=DATE:20260520
DTEND;VALUE=DATE:20260523
DTSTAMP:20260423T145434
CREATED:20220104T013725Z
LAST-MODIFIED:20251008T081503Z
UID:34685-1779235200-1779494399@www.systemsintegrationasia.com
SUMMARY:Broadcast Asia 2026 (ATxEnterprise)
DESCRIPTION:ATxEnterprise 2026 returns from 20–22 May 2026 at Singapore EXPO as the flagship industry segment of Asia Tech x Singapore (ATxSG)\, uniting the worlds of telecommunications\, broadcast\, media\, satellite\, start-ups\, and enterprise solutions. The event features an extensive exhibition marketplace and a robust conference programme\, anchored by BroadcastAsia\, CommunicAsia\, SatelliteAsia\, TechXLR8Asia\, and The AI Summit Singapore. To mark its 5th anniversary\, ATxEnterprise 2026 introduces three new additions to its line-up: the Asia Tech Leaders Forum\, CISO Tech Briefing\, and Enterprise Tech Awards. Attendees can expect three days of cutting-edge tech showcases\, thought leadership\, and meaningful business networking—all under one roof.
URL:https://www.systemsintegrationasia.com/event/broadcast-asia/
LOCATION:Singapore Expo\, Singapore
CATEGORIES:Exhibitions
END:VEVENT
BEGIN:VEVENT
DTSTART;VALUE=DATE:20260519
DTEND;VALUE=DATE:20260522
DTSTAMP:20260423T145434
CREATED:20260118T085133Z
LAST-MODIFIED:20260118T085133Z
UID:46556-1779148800-1779407999@www.systemsintegrationasia.com
SUMMARY:SLS Expo (Saudi Light & Sound)
DESCRIPTION:Saudi Light & Sound (SLS) Expo is Shaping the Future of Saudi’s Pro Light and Sound Industry.
URL:https://www.systemsintegrationasia.com/event/sls-expo-saudi-light-sound/
LOCATION:Riyadh Front\, Saudi Arabia
END:VEVENT
BEGIN:VEVENT
DTSTART;VALUE=DATE:20260512
DTEND;VALUE=DATE:20260516
DTSTAMP:20260423T145434
CREATED:20201220T071951Z
LAST-MODIFIED:20251008T085715Z
UID:34670-1778544000-1778889599@www.systemsintegrationasia.com
SUMMARY:KOBA
DESCRIPTION:
URL:https://www.systemsintegrationasia.com/event/koba/
LOCATION:COEX (Convention & Exhibition Center)\, 524\, Bongeunsa-ro\, Hall Gangnam-gu\, Seoul\, Korea\, Korea\, Republic Of
CATEGORIES:Exhibitions
END:VEVENT
BEGIN:VEVENT
DTSTART;VALUE=DATE:20260512
DTEND;VALUE=DATE:20260515
DTSTAMP:20260423T145434
CREATED:20260118T084050Z
LAST-MODIFIED:20260118T084050Z
UID:46548-1778544000-1778803199@www.systemsintegrationasia.com
SUMMARY:Asian Expo IR
DESCRIPTION:Asian IR Expo and Summit is a one-stop business platform that connects you with key industry players\, allowing you to explore and foster valuable partnerships\, while keeping you up-to-date on emerging trends\, innovations\, and opportunities in the rapidly evolving integrated resorts (IR)\, hotel and travel sectors in Asia. \nThe Expo and Summit will focus on Travel\, Integrated Resorts (IR) & Hospitality\, Technology\, Sports & Entertainment\, alongside the entire supply chain of IR industry\, bringing together top leaders and decision makers from over 60 countries and regions.
URL:https://www.systemsintegrationasia.com/event/asian-expo-ir/
LOCATION:The Venetian Macau\, Macao\, China
END:VEVENT
BEGIN:VEVENT
DTSTART;VALUE=DATE:20260418
DTEND;VALUE=DATE:20260423
DTSTAMP:20260423T145434
CREATED:20220104T013409Z
LAST-MODIFIED:20251008T074210Z
UID:34684-1776470400-1776902399@www.systemsintegrationasia.com
SUMMARY:NAB SHOW
DESCRIPTION:
URL:https://www.systemsintegrationasia.com/event/nab-show/
LOCATION:Las Vegas Convention Center\, 3150 Paradise Road\, NV\, 89109\, United States
CATEGORIES:Exhibitions
END:VEVENT
BEGIN:VEVENT
DTSTART;VALUE=DATE:20260415
DTEND;VALUE=DATE:20260418
DTSTAMP:20260423T145434
CREATED:20210213T200924Z
LAST-MODIFIED:20260119T065322Z
UID:34672-1776211200-1776470399@www.systemsintegrationasia.com
SUMMARY:Beijing InfoComm China
DESCRIPTION:Established in 2007\, Beijing InfoComm China is the focal point for Pro AV innovations\, attracting top-tier technology innovators and senior decision-makers from the AV and IT sectors. The event showcases the latest advancements and solutions\, drawing high-value buyers from over 30 vertical markets. With its dynamic atmosphere and extensive networking opportunities\, it is a must-attend event for professionals looking to thrive in the evolving Pro AV landscape. \nFor more information\, click HERE.
URL:https://www.systemsintegrationasia.com/event/beijing-infocomm-china/
LOCATION:China National Convention Center (CNCC)\, Building No 1 Court 8 Beichen West Road\, Beijing\, China
CATEGORIES:Exhibitions
END:VEVENT
BEGIN:VEVENT
DTSTART;VALUE=DATE:20260406
DTEND;VALUE=DATE:20260409
DTSTAMP:20260423T145434
CREATED:20201220T071520Z
LAST-MODIFIED:20251008T073557Z
UID:34669-1775433600-1775692799@www.systemsintegrationasia.com
SUMMARY:Guangzhou Entertainment Technology (GET) Show
DESCRIPTION:
URL:https://www.systemsintegrationasia.com/event/guangzhou-entertainment-technology-get-show/
LOCATION:Canton Fair Complex\, Area A & D\, China
CATEGORIES:Exhibitions
END:VEVENT
BEGIN:VEVENT
DTSTART;VALUE=DATE:20260301
DTEND;VALUE=DATE:20260304
DTSTAMP:20260423T145434
CREATED:20220104T013138Z
LAST-MODIFIED:20251008T081810Z
UID:34683-1772323200-1772582399@www.systemsintegrationasia.com
SUMMARY:LED CHINA 2026 - SHENZHEN
DESCRIPTION:LED CHINA\, founded in 2005\, has grown steadily over 21 years to become a global industry event. The exhibition has attracted buyers from 100+ countries for 16 consecutive years. In 2015\, LED CHINA expanded to Shanghai\, holding biannual events in Shenzhen and Shanghai since 2019. Both exhibitions were highly successful\, earning industry recognition and attracting buyers from around the world. \nIn 2026\, LED CHINA will continue to leverage its brand strength\, centering on LED displays and reinforcing the “1+N” model that connects multiple supporting industries. The event aims to build a one-stop international sourcing platform for the entire industry chain\, covering LED displays\, digital signage\, professional light & sound\, and sign & print. It will create new business opportunities for industry players and once again bring together buyers from over 140 countries in Shenzhen Futian.
URL:https://www.systemsintegrationasia.com/event/led-china-shenzhen/
LOCATION:Shenzhen Convention & Exhibition Center\, Shenzhen\, China
CATEGORIES:Exhibitions
END:VEVENT
BEGIN:VEVENT
DTSTART;VALUE=DATE:20260203
DTEND;VALUE=DATE:20260207
DTSTAMP:20260423T145434
CREATED:20220103T232426Z
LAST-MODIFIED:20251008T081845Z
UID:34681-1770076800-1770422399@www.systemsintegrationasia.com
SUMMARY:Integrated Systems Europe (ISE)
DESCRIPTION:
URL:https://www.systemsintegrationasia.com/event/integrated-systems-europe/
LOCATION:Fira de Barcelona\, Barcelona\, Spain
CATEGORIES:Exhibitions
END:VEVENT
BEGIN:VEVENT
DTSTART;VALUE=DATE:20260121
DTEND;VALUE=DATE:20260124
DTSTAMP:20260423T145434
CREATED:20220104T014207Z
LAST-MODIFIED:20251008T071331Z
UID:34688-1768953600-1769212799@www.systemsintegrationasia.com
SUMMARY:Live Entertainment Expo (LIVeNT)
DESCRIPTION:LIVeNT is the premier B-to-B trade show for the live entertainment and events industry. \nIt’s where industry leaders\, innovators\, and creative minds come together to connect\, collaborate\, and propel the future of live experiences.
URL:https://www.systemsintegrationasia.com/event/live-entertainment-expo/
LOCATION:Makuhari Messe\, Tokyo\, Japan\, Makuhari Messe\, Tokyo\, Japan
CATEGORIES:Exhibitions
END:VEVENT
BEGIN:VEVENT
DTSTART;VALUE=DATE:20260120
DTEND;VALUE=DATE:20260125
DTSTAMP:20260423T145434
CREATED:20220104T013849Z
LAST-MODIFIED:20251008T080339Z
UID:34686-1768867200-1769299199@www.systemsintegrationasia.com
SUMMARY:The NAMM Show
DESCRIPTION:Events: 20 to 24 January 2026. \nExhibits: 22 to 24 January 2026.
URL:https://www.systemsintegrationasia.com/event/namm-2022/
LOCATION:Anaheim Convention Centre\, USA\, 800 W Katella Ave\, Anaheim\, 92802\, United States
CATEGORIES:Exhibitions
END:VEVENT
BEGIN:VEVENT
DTSTART;VALUE=DATE:20251111
DTEND;VALUE=DATE:20251114
DTSTAMP:20260423T145434
CREATED:20230115T191355Z
LAST-MODIFIED:20250708T031224Z
UID:34695-1762819200-1763078399@www.systemsintegrationasia.com
SUMMARY:Pro Integration Future Asia (PIFA)
DESCRIPTION:Pro Integration Future Asia (PIFA) returns for its 3rd edition as APAC’s premier trade show\, organised by Nineteen Group in partnership with the Pro AudioVisual and Lighting Integration Association of Singapore (AVLIAS). \nAs a dedicated business platform\, PIFA 2025 brings together professional AVL suppliers and specialists to showcase cutting-edge real-world applications tailored for multiple vertical markets across Southeast Asia. \nDiscover the limitless potential of this ever-evolving industry and engage with a dynamic community driving the future of AVL innovation in the region. \n. \nFor more information\, visit www.prointegrationfuture.asia/
URL:https://www.systemsintegrationasia.com/event/pro-integration-future-asia-pifa/
LOCATION:Marina Bay Sands Expo\, Singapore\, Singapore
CATEGORIES:Exhibitions
ATTACH;FMTTYPE=image/jpeg:https://www.systemsintegrationasia.com/wp-content/uploads/2023/01/Pro-Integration-Asia-Future.jpeg
END:VEVENT
BEGIN:VEVENT
DTSTART;VALUE=DATE:20241106
DTEND;VALUE=DATE:20241107
DTSTAMP:20260423T145434
CREATED:20240426T112641Z
LAST-MODIFIED:20240426T112843Z
UID:40805-1730851200-1730937599@www.systemsintegrationasia.com
SUMMARY:LOOKBEYOND24
DESCRIPTION:LOOKBEYOND24 is the premier event for those at the cutting edge of digital signage\, data-driven content\, and user engagement. It serves as a platform for showcasing innovations\, fostering discussions\, and facilitating connections among industry leaders and enthusiasts. With a focus on the future\, LOOKBEYOND24 is dedicated to pushing the boundaries of what’s possible\, encouraging innovation\, and setting new standards for excellence in digital communication. \nThis is a Virtual Event. Register at website for access to event.
URL:https://www.systemsintegrationasia.com/event/lookbeyond24/
ATTACH;FMTTYPE=image/png:https://www.systemsintegrationasia.com/wp-content/uploads/2024/04/LB-email-banner_375x215px.png
END:VEVENT
BEGIN:VEVENT
DTSTART;VALUE=DATE:20240823
DTEND;VALUE=DATE:20240826
DTSTAMP:20260423T145434
CREATED:20240421T022110Z
LAST-MODIFIED:20240421T022110Z
UID:40742-1724371200-1724630399@www.systemsintegrationasia.com
SUMMARY:Connecting Immersive Experience (CIX) Summit
DESCRIPTION:Get ready for an electrifying journey into the future as V2 Indonesia teams up with KIRA to unveil the Connecting Immersive Experience (CIX) Summit! Brace yourselves for an awe-inspiring extravaganza set to captivate minds and revolutionise the tech landscape. \nThe Balai Sidang Jakarta Convention Centre transforms into the epicenter of innovation from August 23 to 25\, 2024. Building on the triumphant Jakarta Audio Visual Week of 2019\, where over 30 cutting-edge brands showcased their technological prowess\, CIX is set to take the immersive experience to unprecedented heights.
URL:https://www.systemsintegrationasia.com/event/connecting-immersive-experience-cix-summit/
LOCATION:Balai Sidang Jakarta Convention Centre\, Indonesia
END:VEVENT
BEGIN:VEVENT
DTSTART;VALUE=DATE:20210916
DTEND;VALUE=DATE:20210917
DTSTAMP:20260423T145434
CREATED:20210905T182121Z
LAST-MODIFIED:20230127T100815Z
UID:34677-1631750400-1631836799@www.systemsintegrationasia.com
SUMMARY:Systems Integration India Awards 2021
DESCRIPTION:16 SEPTEMBER 2021 / 6:05 PM (IST) / 12.35 PM (GMT) \n \nTHIS YEAR\, IT’S MORE THAN JUST ABOUT THE AWARDS; IT’S ABOUT THE PERSEVERANCE WITH WHICH THE INDUSTRY PERFORMED AGAINST THE UNPRECEDENTED CHALLENGE\, AND STOOD TO ITS PURPOSE. WITH A VIEW TO RESONATING IT ALL\, WE HAVE DEVISED A PROGRAMME THAT WE HOPE CONNECTS AND INSPIRES THE AV COMMUNITY IN INDIA. \nPROGRAMME AGENDA:\n> Welcome Speech.\n> Tribute Video. Remembering those that have passed on.\n> Showcasing the resilience of our industry:\n>>Awards Winners Announcement\n>>Congratulatory Speech by Richard Tan\, Executive Director\, InfoCommAsia Pte Ltd\n>>Resilience Video – “Darkness before Dawn\, this too shall pass”.\n>Speech from David Labuskes\, CEO\, AVIXA.\n>Closing Thank You Speech. \nREGISTER HERE TO VIEW THE AWARDS PROGRAMME
URL:https://www.systemsintegrationasia.com/event/systems-integration-india-awards-2021/
ATTACH;FMTTYPE=image/png:https://www.systemsintegrationasia.com/wp-content/uploads/2022/10/SIIA_2021_Logo_final.png
END:VEVENT
BEGIN:VEVENT
DTSTART;VALUE=DATE:20210810
DTEND;VALUE=DATE:20210814
DTSTAMP:20260423T145434
CREATED:20210213T201630Z
LAST-MODIFIED:20230127T100815Z
UID:34673-1628553600-1628899199@www.systemsintegrationasia.com
SUMMARY:IAAPA Expo Asia 2021
DESCRIPTION:
URL:https://www.systemsintegrationasia.com/event/iaapa-expo-asia-2021/
END:VEVENT
BEGIN:VEVENT
DTSTART;VALUE=DATE:20210715
DTEND;VALUE=DATE:20210718
DTSTAMP:20260423T145434
CREATED:20191103T191218Z
LAST-MODIFIED:20230127T100815Z
UID:34657-1626307200-1626566399@www.systemsintegrationasia.com
SUMMARY:Summer NAMM 2020
DESCRIPTION:More than 1\,600 brands will be present\, displaying their latest\, innovative products. Discover a trending product and meet the people behind the brands in an environment conducive to relationship building. \nLearning from each other is one of the most powerful parts of Summer NAMM\, with many networking events throughout the show. Connect with the more than 14\,000 registrants from 39 countries and regions\, including 88% of the world’s Top 100 Dealers.
URL:https://www.systemsintegrationasia.com/event/summer-namm-2020/
CATEGORIES:Exhibitions
ATTACH;FMTTYPE=image/jpeg:https://www.systemsintegrationasia.com/wp-content/uploads/2023/01/namm.jpg
END:VEVENT
BEGIN:VEVENT
DTSTART;VALUE=DATE:20210414
DTEND;VALUE=DATE:20210417
DTSTAMP:20260423T145434
CREATED:20210213T200308Z
LAST-MODIFIED:20230127T100815Z
UID:34671-1618358400-1618617599@www.systemsintegrationasia.com
SUMMARY:LED China
DESCRIPTION:Founded in 2005\, LED CHINA is the initiator of the international LED exhibition in the world\, has been recognised as the benchmark of the global LED industry. The exhibition features 5 main topics and presents an “all-in-one” trading platform that comprises the vertical sectors extending from LED and LED displays\, including LED display\, LED lighting\, system integration\, cultural tourism，professional audio.
URL:https://www.systemsintegrationasia.com/event/led-china/
END:VEVENT
BEGIN:VEVENT
DTSTART;VALUE=DATE:20201029
DTEND;VALUE=DATE:20201101
DTSTAMP:20260423T145434
CREATED:20191103T195647Z
LAST-MODIFIED:20230127T100815Z
UID:34661-1603929600-1604188799@www.systemsintegrationasia.com
SUMMARY:Broadcast India Show
DESCRIPTION:The Indian Media and Entertainment sector is one of the fastest growing industries in the country. The sector grew 11% to USD 20 billion in total revenue\, in the financial year 2016; according to a report by FICCI. It is expected to touch USD 35 billion by the financial year 2021. Television broadcasting\, distribution\, film\, print\, radio\, advertising and digital are some of the segments that drove growth. \nWith the Broadcast India Show 2020\, it’s time to make way for the next-gen broadcast technology – faster\, easier\, more productive and definitely more creative ways of working with broadcast\, film\, audio\, radio and everything else that contributes to the infotainment industry – from its content creation to its management and delivery. Companies and corporates\, veterans and professionals\, suppliers and customers\, visionaries\, and other stakeholders from across the world will gather to realize opportunities\, establish trade connections and facilitate resource pooling on the biggest scale as is the norm every year.
URL:https://www.systemsintegrationasia.com/event/broadcast-india-show/
CATEGORIES:Exhibitions
ATTACH;FMTTYPE=image/png:https://www.systemsintegrationasia.com/wp-content/uploads/2023/01/BroadcastIndia.png
END:VEVENT
BEGIN:VEVENT
DTSTART;VALUE=DATE:20201007
DTEND;VALUE=DATE:20201010
DTSTAMP:20260423T145434
CREATED:20191103T190753Z
LAST-MODIFIED:20230127T100815Z
UID:34656-1602028800-1602287999@www.systemsintegrationasia.com
SUMMARY:LED Expo Thailand
DESCRIPTION:The 8th edition of ASEAN’s Largest International Exhibition on LED Products & Technology is dedicated to the science\, technology and application of LEDs and solid-state lighting. LED Expo Thailand is a dynamic hub for LED/lighting companies to congregate\, promote\, discuss\, transact\, partner and gain insights on neighbouring LED markets. \nLED Expo Thailand welcome visitors from varied business spheres including architects\, lighting industry professionals\, government agencies and many others to explore the use of LED for various applications in both domestic and commercial usage.
URL:https://www.systemsintegrationasia.com/event/led-expo-thailand/
CATEGORIES:Exhibitions
END:VEVENT
END:VCALENDAR