BEGIN:VCALENDAR
VERSION:2.0
PRODID:-//Systems Integration Asia - ECPv6.15.17.1//NONSGML v1.0//EN
CALSCALE:GREGORIAN
METHOD:PUBLISH
X-ORIGINAL-URL:https://www.systemsintegrationasia.com
X-WR-CALDESC:Events for Systems Integration Asia
REFRESH-INTERVAL;VALUE=DURATION:PT1H
X-Robots-Tag:noindex
X-PUBLISHED-TTL:PT1H
BEGIN:VTIMEZONE
TZID:Asia/Singapore
BEGIN:STANDARD
TZOFFSETFROM:+0800
TZOFFSETTO:+0800
TZNAME:+08
DTSTART:20250101T000000
END:STANDARD
END:VTIMEZONE
BEGIN:VEVENT
DTSTART;VALUE=DATE:20260916
DTEND;VALUE=DATE:20260919
DTSTAMP:20260423T080754
CREATED:20240524T090258Z
LAST-MODIFIED:20260119T030218Z
UID:41250-1789516800-1789775999@www.systemsintegrationasia.com
SUMMARY:InfoComm India
DESCRIPTION:India’s leading professional audiovisual and integrated technology business event\nEstablished in 2013\, InfoComm India is a professional trade exhibition serving the country’s Pro AV and integrated technology ecosystem. The event brings together AV and IT channel professionals\, system integrators\, solution providers\, and senior end-user buyers to explore applied technologies shaping enterprise\, live events\, broadcast\, and experiential environments. \nInfoComm India provides a platform to experience new solutions\, engage with industry practitioners\, and exchange practical insights through exhibitions\, demonstrations\, and conference sessions. With its focus on real-world applications and market relevance\, the event supports informed decision-making and meaningful collaboration within India’s fast-evolving technology landscape. For more information\, click HERE.
URL:https://www.systemsintegrationasia.com/event/infocomm-india/
LOCATION:Jio World Convention Centre\, Mumbai
CATEGORIES:Exhibitions
END:VEVENT
END:VCALENDAR