BEGIN:VCALENDAR
VERSION:2.0
PRODID:-//Systems Integration Asia - ECPv6.15.17.1//NONSGML v1.0//EN
CALSCALE:GREGORIAN
METHOD:PUBLISH
X-ORIGINAL-URL:https://www.systemsintegrationasia.com
X-WR-CALDESC:Events for Systems Integration Asia
REFRESH-INTERVAL;VALUE=DURATION:PT1H
X-Robots-Tag:noindex
X-PUBLISHED-TTL:PT1H
BEGIN:VTIMEZONE
TZID:Asia/Singapore
BEGIN:STANDARD
TZOFFSETFROM:+0800
TZOFFSETTO:+0800
TZNAME:+08
DTSTART:20250101T000000
END:STANDARD
END:VTIMEZONE
BEGIN:VEVENT
DTSTART;VALUE=DATE:20260715
DTEND;VALUE=DATE:20260718
DTSTAMP:20260423T045243
CREATED:20240418T093338Z
LAST-MODIFIED:20260119T030747Z
UID:40712-1784073600-1784332799@www.systemsintegrationasia.com
SUMMARY:InfoComm Asia
DESCRIPTION:InfoComm Asia is a leading Pro AV and integrated technology exhibition serving the Asia-Pacific region. The event brings together solution providers\, system integrators\, technology buyers\, and end users across enterprise\, live events and venues\, broadcast\, and related sectors. \nThe exhibition features a broad range of Pro AV and integrated technology solutions\, including collaboration systems\, immersive experience technologies\, live event and venue solutions\, and IP-based media workflows. Complementing the exhibition\, the Summit program offers conference sessions and case studies led by industry practitioners and subject-matter experts\, providing practical insight into market developments and real-world applications. \nWith its focus on applied solutions\, cross-sector collaboration\, and regional relevance\, InfoComm Asia offers a practical platform for professionals to evaluate technologies\, identify partners\, and stay informed on industry developments across Asia-Pacific. For more information\, click HERE.
URL:https://www.systemsintegrationasia.com/event/infocomm-asia/
LOCATION:Queen Sirikit National Convention Center\, Bangkok\, Thailand
CATEGORIES:Exhibitions
END:VEVENT
END:VCALENDAR